BEGIN:VCALENDAR
VERSION:2.0
PRODID:Dia da Mulher
X-WR-CALNAME:Dia da Mulher
X-WR-TIMEZONE:Europe/Lisbon
X-PUBLISHED-TTL:P1W
BEGIN:VTIMEZONE
TZID:Europe/Lisbon
X-LIC-LOCATION:Europe/Lisbon
END:VTIMEZONE
BEGIN:VEVENT
UID:69e77261c6c8b
DTSTART;VALUE=DATE:20260210
SEQUENCE:0
TRANSP:OPAQUE
DTEND;VALUE=DATE:20260211
SUMMARY:Dia da Mulher
CLASS:PUBLIC
DESCRIPTION:Estão abertas as inscrições para o passeio alusivo ao Dia da
  Mulher.Este ano\, a Junta de Freguesia realiza a comemoração do Dia da 
 Mulher com o habitual passeio pela ilha\, no dia 6 de março\, sexta-feira
 \, com almoço incluído em Santana.As inscrições são realizadas presen
 cialmente e limitadas ao número de vagas.&gt\; €20\,00 para cidadãos r
 esidentes na freguesia de Santa Maria Maior\;&gt\; €30\,00 para cidadão
 s de outra freguesia.
X-MICROSOFT-CDO-ALLDAYEVENT:TRUE
DTSTAMP:20260421T124937Z
END:VEVENT
END:VCALENDAR