BEGIN:VCALENDAR
VERSION:2.0
PRODID:XXVI Prova de Atletismo 2026
X-WR-CALNAME:XXVI Prova de Atletismo 2026
X-WR-TIMEZONE:Europe/Lisbon
X-PUBLISHED-TTL:P1W
BEGIN:VTIMEZONE
TZID:Europe/Lisbon
X-LIC-LOCATION:Europe/Lisbon
END:VTIMEZONE
BEGIN:VEVENT
UID:69e7711ecc852
DTSTART;VALUE=DATE:20260207
SEQUENCE:0
TRANSP:OPAQUE
DTEND;VALUE=DATE:20260208
SUMMARY:XXVI Prova de Atletismo 2026
CLASS:PUBLIC
DESCRIPTION:Decorre a 7 de fevereiro\, a emblemática Prova de Atletismo - 
 Núcleo Histórico de Santa Maria Maior que decorre entre o largo do Socor
 ro e o Centro Cívico de Santa Maria Maior\, seguindo-se a entrega de pré
 mios e convívio oferecido pela Junta de Freguesia.
X-MICROSOFT-CDO-ALLDAYEVENT:TRUE
DTSTAMP:20260421T124414Z
END:VEVENT
END:VCALENDAR